Workbook

Sheet  Summary of Costs
A1: Firm Fixed Price
A2: SUMMARY OF COSTS
A3: FROM: (Company Name)
A4: TO: MSTS
A5: ATTN: Vanessa Clark
A6: SUBJECT: RFP-0040970-27-VC UCEP Integrated Cooling, Piping, Valve, and Instrumentation Systems Service
A7: ITEM | B7: DESCRIPTION | G7: PROPOSED AMOUNT | H7: NOTES
A8: 1 | B8: COOLING WATER DISTRIMBUTION UNITS (CDWUS) | G8: =CWDUs!I14 -> 0
A9: 2 | B9: COOLING WATER MANIFOLDS | G9: =Manifolds!I17 -> 0
A10: 3 | B10: CHILLED DOORS | G10: ='Chilled Doors'!G7 -> 0
A11: 4 | B11: SPECIALTY VALVES AND INSTRUMENTATION | G11: ='Specialty Valves and Instrument'!K121 -> 0
A12: 5 | B12: OTHER DIRECT COSTS | G12: ='Other Direct Costs'!H19 -> 0
A13: 6 | B13: SPARE PARTS | G13: ='Spare Parts '!G12 -> 0
B14: TOTAL FIRM FIXED PRICE | G14: =SUM(G8:G13) -> 0

Sheet CWDUs
A2: MATERIAL BREAKDOWN
A3: Cooling Water Distribution Units
A4: Item | B4: Reference Document | C4: Description | D4: P&ID | E4: Drawing No. | F4: Qty/Amount | G4: UoM | H4: Unit Price | I4: Extended Price | J4: Lead Time
A5: 1 | B5: 15-0-012 | C5: Zero Room Cooling Water Distribution Unit | D5: 01889-DW-6222 | E5: 01889-A-0200 | F5: 1 | G5: Each
E6: 01889-M-4204
E7: 01889-M-4320
A8: 2 | B8: 15-0-012 | C8: Drift U1a. 100 Cooling Water Distribution Unit | D8: 01889-DW-6221 | E8: 01889-A-0200 | F8: 1 | G8: Each
E9: 01889-M-4203
E10: 01889-M-4317
A11: 3 | B11: 15-0-012 | C11: Drift U1a. 103 Cooling Water Distribution Unit | D11: 01889-DW-6223 | E11: 01889-A-0200 | F11: 1 | G11: Each
E12: 01889-M-4203
E13: 01889-M-4316
A14: TOTAL | I14: =SUM(I5:I13) -> 0
A15: * Prices to include all ancillary parts in reference to Exhibit B, section B3, task 1d.

Sheet Manifolds
A2: MATERIAL BREAKDOWN
A3: Cooling Water Manifolds
A4: Item | B4: Reference Document | C4: Description | D4: P&ID | E4: Drawing No. | F4: Qty/Amount | G4: Unit | H4: Unit Price | I4: Extended Price | J4: Lead Time
A5: 1 | B5: 15-0-012 | C5: Zero Room Manifolds | D5: 01889-DW-6222 | E5: 01889-A-0200 | F5: 3 | G5: Each
E6: 01889-M-4204
D7: 01889-DW6224 | E7: 01889-M-4319
E8: 01889-M-4320
A9: 2 | B9: 15-0-012 | C9: Drift U1a. 100 Manifold | D9: 01889-DW-6223 | E9: 01889-A-0200 | F9: 1 | G9: Each
E10: 01889-M-4203
D11: 01889-DW-6224 | E11: 01889-M-4317
A12: 3 | B12: 15-0-012 | C12: Drift U1a. 103 Manifolds | D12: 01889-DW-6223 | E12: 01889-A-0200 | F12: 5 | G12: Each
E13: 01889-M-4203
E14: 01889-M-4316
D15: 01889-DW-6224 | E15: 01889-M-4330
E16: 01889-M-4331
A17: TOTAL | I17: =SUM(I5:I16) -> 0
A18: * Prices to include all ancillary parts in reference to Exhibit B, section B3, task 1d.

Sheet Chilled Doors
A2: MATERIAL BREAKDOWN
A3: Chilled Doors
A4: Item | B4: Description | C4: Part Number | D4: Qty/Amount | E4: EoM | F4: Unit Price | G4: Extended Price | H4: Lead Time
A5: 1 | B5: Motivair Chilled Door | C5: MCD-M4-42U600-3 | D5: 25 | E5: Each
A6: 2 | B6: Motivair Chilled Door | C6: MCD-M4-42U600-3-TF | D6: 8 | E6: Each
A7: TOTAL | G7: =SUM(G5:G6) -> 0

Sheet Specialty Valves and Instrument
A2: MATERIAL BREAKDOWN
A3: Specialty Valves and Instruments
A4: Item | B4: Reference Document | C4: Description | D4: Mark No. | E4: Commodity component | F4: Specification | G4: Drawing No. | H4: Qty/Amount | I4: Unit | J4: Unit Price | K4: Extended Price | L4: Lead Time
A5: 1 | B5: 01889-19-MAS-003 | C5: On-Off (Gate) Valves (MOV) MAS
D6: I-01 | E6: Fisher Vee-ball / Rotary Valve, Type V150, 3", Emerson Type XTE-3000 electric actuator, 480 VAC, 60 HZ, 3 Phase | F6: 19-0-203 | G6: 01889-DW-6203 | H6: 1 | I6: EACH | K6: =J6*H6 -> 0
D8: I-02 | E8: Fisher Vee-ball / Rotary Valve, Type V150, 3", Emerson Type XTE-3000 electric actuator, 480 VAC, 60 HZ, 3 Phase | F8: 19-0-203 | G8: 01889-DW-6203 | H8: 1 | I8: EACH | K8: =J8*H8 -> 0
D10: I-03 | E10: Fisher Vee-ball / Rotary Valve, Type V150, 6", Emerson type XTE-3000 electric actuator, 480 VAC, 60 Hz, 3 phase with Remote Display Unit to include Local/Off/Remote selector and Open/Close/Stop pushbutton. | F10: 19-0-203 | G10: 01889-DW-6210 | H10: 1 | I10: EACH | K10: =J10*H10 -> 0
D12: I-04 | E12: Fisher Vee-ball / Rotary Valve, Type V150,6", Emerson Type XTE-3000 electric actuator, 480 VAC, 60 HZ, 3 Phase | F12: 19-0-203 | G12: 01889-DW-6210 | H12: 1 | I12: EACH | K12: =J12*H12 -> 0
D14: I-05 | E14: Fisher Vee-ball / Rotary Valve, Type V150, 6", Emerson type XTE-3000 electric actuator, 480 VAC, 60 Hz, 3 phase with Remote Display Unit to include Local/Off/Remote selector and Open/Close/Stop pushbutton. | F14: 19-0-203 | G14: 01889-DW-6213 | H14: 1 | I14: EACH | K14: =J14*H14 -> 0
D16: I-06 | E16: Fisher Vee-ball / Rotary Valve, Type V150,6", Emerson Type XTE-3000 electric actuator, 480 VAC, 60 HZ, 3 Phase | F16: 19-0-203 | G16: 01889-DW-6213 | H16: 1 | I16: EACH | K16: =J16*H16 -> 0
D18: I-07 | E18: Fisher Vee-ball / Rotary Valve, Type V150, 8", Emerson Type XTE-3000 electric actuator, 480 VAC, 60 HZ, 3 Phase | F18: 19-0-203 | G18: 01889-DW-6207 | H18: 1 | I18: EACH | K18: =J18*H18 -> 0
D20: I-08 | E20: Fisher Vee-ball / Rotary Valve, Type V150, 8", Emerson Type XTE-3000 electric actuator, 480 VAC, 60 HZ, 3 Phase | F20: 19-0-203 | G20: 01889-DW-6207 | H20: 1 | I20: EACH | K20: =J20*H20 -> 0
D22: I-09 | E22: Fisher Vee-ball / Rotary Valve, Type V300, 10", Emerson Type XTE-3000 electric actuator, 480 VAC, 60 HZ, 3 Phase | F22: 19-0-203 | G22: 01889-DW-6220 | H22: 1 | I22: EACH | K22: =J22*H22 -> 0
D24: I-10 | E24: Fisher Vee-ball / Rotary Valve, Type V300, 10", Emerson type XTE-3000 electric actuator, 480 VAC, 60 Hz, 3 phase with Remote Display Unit to include Local/Off/Remote selector and Open/Close/Stop pushbutton. | F24: 19-0-203 | G24: 01889-DW-6220 | H24: 1 | I24: EACH | K24: =J24*H24 -> 0
A27: 2 | B27: 01889-19-MAS-004 | C27: Pressure Relief Valves MAS | D27: I-01 | E27: Pressure Relief, Pilot Operated Valve 3" X 4", CL 150 RF, AGCO part number 443205L34/S | F27: 19-0-204 | G27: 01889-DW-6202 | H27: 1 | I27: EACH | K27: =J27*H27 -> 0
D28: I-02 | E28: Pressure Relief, Pilot Operated Valve, 3"x4", CL 150 RF, AGCO part number 45305K34/S | F28: 19-0-204 | G28: 01889-DW-6209 | H28: 1 | I28: EACH | K28: =J28*H28 -> 0
D29: I-03 | E29: Pressure Relief, Pilot Operated Valve, 3"x4", CL 150 RF, AGCO part number 44305L34/S | F29: 19-02-204 | G29: 01889-DW-6212 | H29: 1 | I29: EACH | K29: =J29*H29 -> 0
D30: I-04 | E30: Pressure Relief, Pilot Operated Valve, 3"x4", CL 150 RF, AGCO part number 45305J34/S | F30: 19-0-204 | G30: 01889-DW-6205 | H30: 1 | I30: EACH | K30: =J30*H30 -> 0
A32: 3 | B32: 01889-19-MAS-005 | C32: Thermal Relief Valves MAS | D32: I-01 | E32: Thermal Relief, Pilot Operated Valve, 0.75"x1", CL 150 RF,CROSBY part number 95121111D | F32: 19-0-204 | G32: 01889-DW-6203 | H32: 1 | I32: EACH | K32: =J32*H32 -> 0
D33: I-02 | E33: Thermal Relief, Pilot Operated Valve, 0.75"x1", CL 150 RF,CROSBY part number 95121111D | F33: 19-0-204 | G33: 01889-DW-6210 | H33: 1 | I33: EACH | K33: =J33*H33 -> 0
D34: I-03 | E34: Thermal Relief, Pilot Operated Valve, 0.75"x1", CL 150 RF,CROSBY part number 95121111D | F34: 19-0-204 | G34: 01889-DW-6213 | H34: 1 | I34: EACH | K34: =J34*H34 -> 0
D35: I-04 | E35: Thermal Relief, Pilot Operated Valve, 0.75"x1", CL 150 RF,CROSBY part number 95121111D | F35: 19-0-204 | G35: 01889-DW-6207 | H35: 1 | I35: EACH | K35: =J35*H35 -> 0
D36: I-05 | E36: Thermal Relief, Pilot Operated Valve, 0.75"x1", CL 300 RF,CROSBY part number 95120122D | F36: 19-0-204 | G36: 01889-DW-6220 | H36: 1 | I36: EACH | K36: =J36*H36 -> 0
A38: 4 | B38: 01889-19-MAS-006 | C38: Pressure, DP,Level, Temp Transmitters MAS | D38: I-01 | E38: Pressure Transmitter, 316L SS Diaphragm, 0-150 Psig calibration (pre-calibrated), Rosemount part number 3051S1TG2A2A11A1AB4E5M5P1Q4T1 mounted with rosemount 2-Valve Manifold part number R306ER22BA11 | F38: 19-0-205 | G38: 01889-DW-6202 | H38: 1 | I38: EACH | K38: =J38*H38 -> 0
D39: I-02 | E39: Pressure Transmitter, 316L SS Diaphragm, 0-150 Psig calibration (pre-calibrated), Rosemount part number 3051S1TG2A2A11A1AB4E5M5P1Q4T1 mounted with rosemount 2-Valve Manifold part number R306ER22AA11 | F39: 19-0-205 | G39: 01889-DW-6206 | H39: 1 | I39: EACH | K39: =J39*H39 -> 0
D40: I-03 | E40: Pressure Transmitter, 316L SS Diaphragm, 0-80 Psig calibration (Pre--calibrated), Rosemount part number 3051S1TG2A2A11A1AE5M51Q4T1 mounted with Rosemount 2-Valve Manifold part number R306ET22AA11 | F40: 19-0-205 | G40: 01889-DW-6202 | H40: 1 | I40: EACH | K40: =J40*H40 -> 0
D41: I-04 | E41: Pressure Transmitter, 316L SS Diaphragm, 0-150 Psig calibration (Pre-calibrated), Rosemount part number 3051S1TG2A2A11A1AE5M5P1Q4T1 mounted with Rosemount 2-Valve Manifold part number R306ET22AA11. | F41: 19-0-205 | G41: 01889-DW-6209 | H41: 1 | I41: EACH | K41: =J41*H41 -> 0
D42: I-05 | E42: Pressure Transmitter, 316L SS Diaphragm, 0-130 Psig calibration (Pre-calibrated), Rosemount part number 3051S1TG2A2A11A1AE5M5P1Q4T1 mounted with Rosemount 2-Valve Manifold part number R306ET22AA11. | F42: 19-0-205 | G42: 01889-DW-6209 | H42: 1 | I42: EACH | K42: =J42*H42 -> 0
D43: I-06 | E43: Pressure Transmitter, 316L SS Diaphragm, 0-100 Psig calibration (Pre-calibrated), Rosemount part number 3051S1TG2A2A11A1AE5M5P1Q4T1 mounted with Rosemount 2-Valve Manifold part number R306ET22AA11. | F43: 19-0-205 | G43: 01889-DW-6210 | H43: 1 | I43: EACH | K43: =J43*H43 -> 0
D44: I-07 | E44: Pressure Transmitter, 316L SS Diaphragm, 0-150 Psig calibration (Pre-calibrated), Rosemount part number 3051S1TG2A2A11A1AE5M5P1Q4T1 mounted with Rosemount 2-Valve Manifold part number R306ET22AA11 | F44: 19-0-205 | G44: 01889-DW-6212 | H44: 1 | I44: EACH | K44: =J44*H44 -> 0
D45: I-08 | E45: Pressure Transmitter, 316L SS Diaphragm, 0-130 Psig calibration (Pre-calibrated), Rosemount part number 3051S1TG2A2A11A1AE5M5P1Q4T1 mounted with Rosemount 2-Valve Manifold part number R306ET22AA11. | F45: 19-0-205 | G45: 01889-DW-6212 | H45: 1 | I45: EACH | K45: =J45*H45 -> 0
D46: I-09 | E46: Pressure Transmitter, 316L SS Diaphragm, 0-80 Psig calibration (Pre-calibrated), Rosemount part number 3051S1TG2A2A11A1AE5M5P1Q4T1 mounted with Rosemount 2-Valve Manifold part number R306ET22AA11. | F46: 19-0-205 | G46: 01889-DW-6213 | H46: 1 | I46: EACH | K46: =J46*H46 -> 0
D47: I-10 | E47: Pressure Transmitter, 316L SS Diaphragm, 0-200 Psig calibration (Pre-calibrated), Rosemount part number 3051S1TG3A2A11A1AB4E5M5P1Q4T1 mounted with Rosemount 2-Valve Manifold part number R306ET22BA11. | F47: 19-0-205 | G47: 01889-DW-6207 | H47: 1 | I47: EACH | K47: =J47*H47 -> 0
D48: I-11 | E48: Pressure Transmitter, 316L SS Diaphragm, 0-250 Psig calibration (Pre-calibrated), Rosemount part number 3051S1TG3A2A11A1AB4E5M5P1Q4T1 mounted with Rosemount 2-Valve Manifold part number R306ET22BA11. | F48: 19-0-205 | G48: 01889-DW-6205 | H48: 1 | I48: EACH | K48: =J48*H48 -> 0
D49: I-12 | E49: Pressure Transmitter, 316L SS Diaphragm, 0-250 Psig calibration (Pre-calibrated), Rosemount part number 3051S1TG3A2A11A1AE5M5P1Q4T1 mounted with Rosemount 2-Valve Manifold part number R306ET22AA11. | F49: 19-0-205 | G49: 01889-DW-6205 | H49: 1 | I49: EACH | K49: =J49*H49 -> 0
D50: I-13 | E50: Pressure Transmitter, 316L SS Diaphragm, 0-565 Psig calibration (Pre-calibrated), Rosemount part number 3051S1TG3A2A11A1AE5M5P1Q4T1 mounted with Rosemount 2-Valve Manifold part number R306ET22AA11. | F50: 19-0-205 | G50: 01889-DW-6202 | H50: 1 | I50: EACH | K50: =J50*H50 -> 0
... D85: I-48 | E85: Temperature Element, 321 SS RTD, 8.25in length, Rosemount part number 214CRWSMA1D3E0082SLM1E5XAXW. Thermowell, 316/316L stainless steel, 2", CL 300 RF, 5.75in insertion, Rosemount part number 114CE0057FAK2SC025AXWR21Q8Q5Q73. Temperature Transmitter, 20-100° F calibration, Rosemount part number 3144PD1A2E5P8M5T1Q4XA. | F85: 19-0-205 | G85: 01889-DA-6216 | H85: 1 | I85: EACH | K85: =J85*H85 -> 0
A87: 5 | B87: 01889-19-MAS-007 | C87: Vortex Flowmeters MAS | D87: I-01 | E87: Vortex Flowmeter with Transmitter, 1", CL 150 RF, 0 - 40 US gal/min calibration, Rosemount part number 8800DF010SA1N1D1E5M5R20T1J2Q4Q5Q8. | F87: 19-0-206 | G87: 01889-DW-6203 | H87: 1 | I87: EACH | K87: =J87*H87 -> 0
D88: I-02 | E88: Vortex Flowmeter with Transmitter, 1", CL 150 RF, 0 - 40 US gal/min calibration, Rosemount part number 8800DF010SA1N1D1E5M5R30T1J2Q4Q5Q8. | F88: 19-0-206 | G88: 01889-DW-6203 | H88: 1 | I88: EACH | K88: =J88*H88 -> 0
D89: I-03 | E89: Vortex Flowmeter with Transmitter, 2", CL 150 RF, 0 -120 US gal/min calibration, Rosemount part number 8800DF020SA1N1D1E5M5R30T1J2Q4Q5Q8. | F89: 19-0-206 | G89: 01889-DW-6203 | H89: 1 | I89: EACH | K89: =J89*H89 -> 0
D90: I-04 | E90: Vortex Flowmeter with Transmitter, 6", CL 150 RF, 0 -800 US gal/min calibration, Rosemount part number 8800DF060SA1N1D1E5M5R15T1J2Q4Q5Q8. | F90: 19-0-206 | G90: 01889-DW-6210 | H90: 1 | I90: EACH | K90: =J90*H90 -> 0
D91: I-05 | E91: Vortex Flowmeter with Transmitter, 6", CL 150 RF, 0 -1000 US gal/min calibration, Rosemount part number 8800DF060SA1N1D1E5M5R15T1J2Q4Q5Q8. | F91: 19-0-206 | G91: 01889-DW-6213 | H91: 1 | I91: EACH | K91: =J91*H91 -> 0
D92: I-06 | E92: Vortex Flowmeter with Transmitter, 0.5", CL 150 RF, 0 -10 US gal/min calibration, Rosemount part number 8800DF005SA1N1D1E5M5T1J2Q4Q5Q8. | F92: 19-0-206 | G92: 01889-DW-6213 | H92: 1 | I92: EACH | K92: =J92*H92 -> 0
D93: I-07 | E93: Vortex Flowmeter with Transmitter, 6", CL 150 RF, 0 -800 US gal/min calibration, Rosemount part number 8800DF060SA1N1D1E5M5R15T1J2Q4Q5Q8. | F93: 19-0-206 | G93: 01889-DW-6207 | H93: 1 | I93: EACH | K93: =J93*H93 -> 0
D94: I-08 | E94: Vortex Flowmeter with Transmitter, 8", CL 300 RF, 0 -1200 US gal/min calibration, Rosemount part number 8800DF080SA3N1D1E5M5R10T1J2Q4Q5Q8. | F94: 19-0-206 | G94: 01889-DW-6202 | H94: 1 | I94: EACH | K94: =J94*H94 -> 0
D95: I-09 | E95: Vortex Flowmeter with Transmitter, 6", CL 300 RF, 0 -800 US gal/min calibration, Rosemount part number 8800DF060SA3N1D1E5M5R10T1J2Q4Q5Q8. | F95: 19-0-206 | G95: 01889-DW-6209 | H95: 1 | I95: EACH | K95: =J95*H95 -> 0
D96: I-10 | E96: Vortex Flowmeter with Transmitter, 6", CL 300 RF, 0 -800 US gal/min calibration, Rosemount part number 8800DF060SA3N1D1E5M5R20T1J2Q4Q5Q8. | F96: 19-0-206 | G96: 01889-DW-6212 | H96: 1 | I96: EACH | K96: =J96*H96 -> 0
D97: I-11 | E97: Vortex Flowmeter with Transmitter, 6", CL 300 RF, 0 -1000 US gal/min calibration, Rosemount part number 8800DF060SA3N1D1E5M5R25T1J2Q4Q5Q8. | F97: 19-0-206 | G97: 01889-DW-6205 | H97: 1 | I97: EACH | K97: =J97*H97 -> 0
D98: I-12 | E98: Vortex Flowmeter with Transmitter, 10", CL 300 RF, 0 -3000 US gal/min calibration, Rosemount part number 8800DF100SA3N1D1E5M5R20T1J2Q4Q5Q8. | F98: 19-0-206 | G98: 01889-DW-6220 | H98: 1 | I98: EACH | K98: =J98*H98 -> 0
A100: 6 | B100: 01889-19-MAS-008 | C100: Pressure Gauges MAS | D100: I-01 | E100: Pressure Gauge, 1/2" MNPT Bottom Connection, 316L SS Element, 4.5" Dial Size, with manifold, Ashcroft part number 451279-SS-04-L-XSGNH-200# mounted with Ashcroft manifold part number 50V022VASS50HYTM. | F100: 19-0-207 | G100: 01889-DW-6205 | H100: 1 | I100: EACH | K100: =J100*H100 -> 0
A102: 7 | B102: 01889-19-MAS-009 | C102: leak Detectors MAS | D102: I-01 | E102: Leak Detector, Thermal Dispersion Type, 316L SS Material, 18 inch insertion length, FCI part number FLT93S-1B-1A207C-2C030-00. | F102: 19-0-208 | G102: 01889-DW-6210 | H102: 1 | I102: EACH | K102: =J102*H102 -> 0
D103: I-02 | E103: Leak Detector, Thermal Dispersion Type, 316L SS Material, 18 inch insertion length, FCI part number FLT93S-1B-1A207C-2C030-00. | F103: 19-0-207 | G103: 01889-DW-6210 | H103: 1 | I103: EACH | K103: =J103*H103 -> 0
D104: I-03 | E104: Leak Detector, Thermal Dispersion Type, 316L SS Material, 18 inch insertion length, FCI part number FLT93S-1B-1A207C-2C030-00. | F104: 19-0-207 | G104: 01889-DW-6210 | H104: 1 | I104: EACH | K104: =J104*H104 -> 0
D105: I-04 | E105: Leak Detector, Thermal Dispersion Type, 316L SS Material, 18 inch insertion length, FCI part number FLT93S-1B-1A207C-2C030-00. | F105: 19-0-207 | G105: 01889-DW-6210 | H105: 1 | I105: EACH | K105: =J105*H105 -> 0
D106: I-05 | E106: Leak Detector, Thermal Dispersion Type, 316L SS Material, 18 inch insertion length, FCI part number FLT93S-1B-1A207C-2C030-00. | F106: 19-0-207 | G106: 01889-DW-6210 | H106: 1 | I106: EACH | K106: =J106*H106 -> 0
D107: I-06 | E107: Leak Detector, Thermal Dispersion Type, 316L SS Material, 18 inch insertion length, FCI part number FLT93S-1B-1A207C-2C030-00. | F107: 19-0-207 | G107: 01889-DW-6210 | H107: 1 | I107: EACH | K107: =J107*H107 -> 0
D108: I-07 | E108: Leak Detector, Thermal Dispersion Type, 316L SS Material, 18 inch insertion length, FCI part number FLT93S-1B-1A207C-2C030-00. | F108: 19-0-207 | G108: 01889-DW-6210 | H108: 1 | I108: EACH | K108: =J108*H108 -> 0
D109: I-08 | E109: Leak Detector, Thermal Dispersion Type, 316L SS Material, 18 inch insertion length, FCI part number FLT93S-1B-1A207C-2C030-00. | F109: 19-0-207 | G109: 01889-DW-6210 | H109: 1 | I109: EACH | K109: =J109*H109 -> 0
A111: 8 | B111: 01889-19-MAS-010 | C111: Control Valves (MOV) MAS | D111: I-01 | E111: Fisher Globe Valve, type ET, 4"., Emerson type XTE-3000 electric actuator, 480 VAC, 60 Hz, 3 Phase | F111: 19-0-202 | G111: 01889-DW-6202 | H111: 1 | I111: EACH | K111: =J111*H111 -> 0
D112: I-02 | E112: Fisher Globe Valve, type ET, 4"., Emerson type XTE-3000 electric actuator, 480 VAC, 60 Hz, 3 Phase | F112: 19-0-202 | G112: 01889-DW-6209 | H112: 1 | I112: EACH | K112: =J112*H112 -> 0
D113: I-03 | E113: Fisher Globe Valve, type ET, 4"., Emerson type XTE-3000 electric actuator, 480 VAC, 60 Hz, 3 Phase | F113: 19-0-202 | G113: 01889-DW-6212 | H113: 1 | I113: EACH | K113: =J113*H113 -> 0
D114: I-04 | E114: Fisher Globe Valve, type EWT, 6"., Emerson type XTE-3000 electric actuator, 480 VAC, 60 Hz, 3 Phase | F114: 19-0-202 | G114: 01889-DW-6205 | H114: 1 | I114: EACH | K114: =J114*H114 -> 0
D115: I-05 | E115: Fisher Globe Valve, type ET, 6"., Emerson type XTE-3000 electric actuator, 480 VAC, 60 Hz, 3 Phase | F115: 19-0-202 | G115: 01889-DW-6220 | H115: 1 | I115: EACH | K115: =J115*H115 -> 0
D116: I-06 | E116: Fisher Globe Valve, type ET, 6"., Emerson type XTE-3000 electric actuator, 480 VAC, 60 Hz, 3 Phase | F116: 19-0-202 | G116: 01889-DW-6205 | H116: 1 | I116: EACH | K116: =J116*H116 -> 0
D117: I-07 | E117: Fisher Globe Valve, type ET, 6"., Emerson type XTE-3000 electric actuator, 480 VAC, 60 Hz, 3 Phase | F117: 19-0-202 | G117: 01889-DW-6202 | H117: 1 | I117: EACH | K117: =J117*H117 -> 0
D118: I-08 | E118: Fisher Globe Valve, type ET, 6"., Emerson type XTE-3000 electric actuator, 480 VAC, 60 Hz, 3 Phase with Remote Display Unit to include Local/Off/Remote selector and Open/Close/Stop pushbutton. | F118: 19-0-202 | G118: 01889-DW-6209 | H118: 1 | I118: EACH | K118: =J118*H118 -> 0
D119: I-09 | E119: Fisher Globe Valve, type EWT, 6"., Emerson type XTE-3000 electric actuator, 480 VAC, 60 Hz, 3 Phase | F119: 19-0-202 | G119: 01889-DW-6212 | H119: 1 | I119: EACH | K119: =J119*H119 -> 0
A121: TOTAL | K121: =SUM(K111:K119,K102:K109,K100,K87:K98,K38:K85,K32:K36,K27:K30,K6:K25) -> 0

Sheet Other Direct Costs
A2: OTHER DIRECT COSTS
A3: List the applicable direct costs to be used in the performance of work not included in the Labor or Material Tabs
E4: UNIT | F4: UNIT | G4: EXTENDED | H4: TOTAL
A5: ITEM # | B5: OTHER DIRECT COST | C5: DESCRIPTION | D5: QTY | E5: OF ISSUE | F5: PRICE | G5: AMOUNT | I5: NOTES:
C6: Packaging
C7: Shipping
C8: Desgin
C9: Fabricantion
C10: Assembly
C11: Testing
B19: TOTAL OTHER DIRECT COSTS | H19: =SUM(H6:H18) -> 0
A20: Additional Comments:

Sheet Spare Parts 
A2: MATERIAL BREAKDOWN
A3: SPARE PARTS - Please include all spare parts as called out in Exhibit B - Section B-3, Task 1ii
A4: Item | B4: Description | C4: Part Number | D4: Qty/Amount | E4: EoM | F4: Unit Price | G4: Extended Price | H4: Lead Time
A12: TOTAL | G12: =SUM(G5:G11) -> 0
